BEGIN:VCALENDAR
VERSION:2.0
PRODID:-//Animal Advocates of South Central PA - ECPv6.10.1.1//NONSGML v1.0//EN
CALSCALE:GREGORIAN
METHOD:PUBLISH
X-WR-CALNAME:Animal Advocates of South Central PA
X-ORIGINAL-URL:https://www.animaladvocatesscpa.com
X-WR-CALDESC:Events for Animal Advocates of South Central PA
REFRESH-INTERVAL;VALUE=DURATION:PT1H
X-Robots-Tag:noindex
X-PUBLISHED-TTL:PT1H
BEGIN:VTIMEZONE
TZID:America/New_York
BEGIN:DAYLIGHT
TZOFFSETFROM:-0500
TZOFFSETTO:-0400
TZNAME:EDT
DTSTART:20170312T070000
END:DAYLIGHT
BEGIN:STANDARD
TZOFFSETFROM:-0400
TZOFFSETTO:-0500
TZNAME:EST
DTSTART:20171105T060000
END:STANDARD
END:VTIMEZONE
BEGIN:VEVENT
DTSTART;TZID=America/New_York:20170603T120000
DTEND;TZID=America/New_York:20170603T170000
DTSTAMP:20260423T032104
CREATED:20161221T212820Z
LAST-MODIFIED:20170521T004522Z
UID:460-1496491200-1496509200@www.animaladvocatesscpa.com
SUMMARY:Central PA VegFest
DESCRIPTION:Join us for Lancaster’s 1st annual VegFest to celebrate the plant-based lifestyle! This is a public event whose mission is to provide information about the benefits of a plant-based diet for health and the benefit to animals. The event will include speakers\, vendors\, entertainment\, children’s activities\, non-profit organizations\, and much\, much more! \nWe will be tabling at the VegFest!! Stop by and say hi!
URL:https://www.animaladvocatesscpa.com/eventinfo/central-pa-vegfest/
LOCATION:Musser Park\, 135 N Lime Street\, Lancaster\, PA\, 17602\, United States
CATEGORIES:Tabling Event,Vegan Social Event,VegFest
ATTACH;FMTTYPE=image/jpeg:https://www.animaladvocatesscpa.com/wp-content/uploads/2016/12/About.jpg
END:VEVENT
BEGIN:VEVENT
DTSTART;TZID=America/New_York:20170506T110000
DTEND;TZID=America/New_York:20170506T160000
DTSTAMP:20260423T032104
CREATED:20161221T212149Z
LAST-MODIFIED:20161221T212149Z
UID:443-1494068400-1494086400@www.animaladvocatesscpa.com
SUMMARY:The 7th Annual Baltimore VegFest
DESCRIPTION:
URL:https://www.animaladvocatesscpa.com/eventinfo/7th-annual-baltimore-vegfest/
LOCATION:UMBC\, 1000 Hilltop Cir.\, Baltimore\, MD\, 21250\, United States
CATEGORIES:VegFest
ATTACH;FMTTYPE=image/jpeg:https://www.animaladvocatesscpa.com/wp-content/uploads/2016/12/15337429_10102007420061213_3687436857868350584_n.jpg
END:VEVENT
END:VCALENDAR