BEGIN:VCALENDAR
VERSION:2.0
PRODID:-//Animal Advocates of South Central PA - ECPv6.10.1.1//NONSGML v1.0//EN
CALSCALE:GREGORIAN
METHOD:PUBLISH
X-ORIGINAL-URL:https://www.animaladvocatesscpa.com
X-WR-CALDESC:Events for Animal Advocates of South Central PA
REFRESH-INTERVAL;VALUE=DURATION:PT1H
X-Robots-Tag:noindex
X-PUBLISHED-TTL:PT1H
BEGIN:VTIMEZONE
TZID:America/New_York
BEGIN:DAYLIGHT
TZOFFSETFROM:-0500
TZOFFSETTO:-0400
TZNAME:EDT
DTSTART:20170312T070000
END:DAYLIGHT
BEGIN:STANDARD
TZOFFSETFROM:-0400
TZOFFSETTO:-0500
TZNAME:EST
DTSTART:20171105T060000
END:STANDARD
BEGIN:DAYLIGHT
TZOFFSETFROM:-0500
TZOFFSETTO:-0400
TZNAME:EDT
DTSTART:20180311T070000
END:DAYLIGHT
BEGIN:STANDARD
TZOFFSETFROM:-0400
TZOFFSETTO:-0500
TZNAME:EST
DTSTART:20181104T060000
END:STANDARD
BEGIN:DAYLIGHT
TZOFFSETFROM:-0500
TZOFFSETTO:-0400
TZNAME:EDT
DTSTART:20190310T070000
END:DAYLIGHT
BEGIN:STANDARD
TZOFFSETFROM:-0400
TZOFFSETTO:-0500
TZNAME:EST
DTSTART:20191103T060000
END:STANDARD
END:VTIMEZONE
BEGIN:VEVENT
DTSTART;TZID=America/New_York:20190406T100000
DTEND;TZID=America/New_York:20190406T140000
DTSTAMP:20260422T223835
CREATED:20190314T001530Z
LAST-MODIFIED:20190314T001530Z
UID:2489-1554544800-1554559200@www.animaladvocatesscpa.com
SUMMARY:The Vegan Curry Cook Off
DESCRIPTION:Join us for a Vegan Curry Cook Off on April 6 from 10:00 am to 2:00 pm at Leg Up Farmer’s Market. Meet Andrew Abaria\, host of the DEEPER Retreat this summer in the Swiss Alps. Discuss curry with Locally Seasoned owner\, Liza Naylor. Connect with Animal Advocates of South Central PA and have a blast in this fun competition! \nThis competition will be in the style of the popular tv show “Chopped”. Each team will have 20 minutes to shop for up to $30 worth of ingredients and one hour to make their best vegan curry dish\, followed by blind judging. There is no fee to enter but space is limited. Deadline to enter is April 1 at noon. Maximum of 10 teams\, accepted in order received. Message Andrew at andrew@thedeeperworld.com to register.
URL:https://www.animaladvocatesscpa.com/eventinfo/the-vegan-curry-cook-off/
CATEGORIES:Community Event,Vegan Social Event
ATTACH;FMTTYPE=image/jpeg:https://www.animaladvocatesscpa.com/wp-content/uploads/2019/03/53664132_413559499407084_7746005498662486016_o.jpg
END:VEVENT
BEGIN:VEVENT
DTSTART;TZID=America/New_York:20190327T180000
DTEND;TZID=America/New_York:20190327T210000
DTSTAMP:20260422T223835
CREATED:20190311T013128Z
LAST-MODIFIED:20190311T013128Z
UID:2476-1553709600-1553720400@www.animaladvocatesscpa.com
SUMMARY:Lancaster Vegan Drinks March Mixer
DESCRIPTION:Come out and get social with vegan food and drinks at Root Bar & Restaurant in Lancaster
URL:https://www.animaladvocatesscpa.com/eventinfo/lancaster-vegan-drinks-march-mixer/
CATEGORIES:Community Event,SCPA Vegan Drinks,Vegan Social Event
ATTACH;FMTTYPE=image/jpeg:https://www.animaladvocatesscpa.com/wp-content/uploads/2019/03/53285567_2560792303996156_2671231746988572672_n.jpg
END:VEVENT
BEGIN:VEVENT
DTSTART;TZID=America/New_York:20190313T170000
DTEND;TZID=America/New_York:20190313T203000
DTSTAMP:20260422T223835
CREATED:20190225T152722Z
LAST-MODIFIED:20190225T152722Z
UID:2454-1552496400-1552509000@www.animaladvocatesscpa.com
SUMMARY:Vegan Night at Hamir’s Indian Fusion
DESCRIPTION:Special vegan menu – March 13! \nLocation: Hamir’s at 24 S. George St.\, York\, PA 17401 \nhttp://www.hamirs.com/ \nPlease call the restaurant to make your own reservations and mention you are coming for the vegan options when you call. Phone: 717-430-4173 \nA community table will NOT be automatically reserved for this event.\nAny walk-ins will be seated according to remaining availability. Reservations encouraged\, the last vegan event here was very well attended!
URL:https://www.animaladvocatesscpa.com/eventinfo/vegan-night-at-hamirs-indian-fusion/
CATEGORIES:Community Event
ATTACH;FMTTYPE=image/jpeg:https://www.animaladvocatesscpa.com/wp-content/uploads/2019/02/52638744_1200875283419112_2208319622069878784_n.jpg
END:VEVENT
BEGIN:VEVENT
DTSTART;TZID=America/New_York:20181125T183000
DTEND;TZID=America/New_York:20181125T210000
DTSTAMP:20260422T223835
CREATED:20181022T175141Z
LAST-MODIFIED:20181022T175141Z
UID:2245-1543170600-1543179600@www.animaladvocatesscpa.com
SUMMARY:10th Annual Vegansgiving
DESCRIPTION:Join us at this community potluck! All are welcome 🙂 \nBring a vegan dish to share with a list of ingredients (for allergen purposes). Biodegradable and compostable utensils\, cups\, plates and napkins will be provided by us. \nEnter Central Market on the Philadelphia St. side. Parking is free on weekends downtown. \nWe will have raffles and live music to enjoy.
URL:https://www.animaladvocatesscpa.com/eventinfo/10th-annual-vegansgiving/
LOCATION:Central Market York\, 34 W Philadelphia St.\, York\, PA\, 17401\, United States
CATEGORIES:Community Event,Vegan Social Event
ATTACH;FMTTYPE=image/jpeg:https://www.animaladvocatesscpa.com/wp-content/uploads/2018/10/44585399_333909300519822_4260549863336312832_n.jpg
END:VEVENT
BEGIN:VEVENT
DTSTART;TZID=America/New_York:20180922T120000
DTEND;TZID=America/New_York:20180922T210000
DTSTAMP:20260422T223835
CREATED:20180205T000214Z
LAST-MODIFIED:20180205T000334Z
UID:1413-1537617600-1537650000@www.animaladvocatesscpa.com
SUMMARY:Harvest Vegfest York
DESCRIPTION:Save the Date! York is hosting it’s first Vegfest!!\nHarvest Veg​f​est will give a spotlight to the wonderful abundance of local produce of York County and the surrounding area​​. It​ will be a free\, community-centered event which will focus on healthy\, sustainable and compassionate living. Food\, vendors\, kids’ activities​ speakers\, cooking demonstrations\, a pie eating contest\, and​ ​live entertainment​ will make this event one to remember! \nA Facebook event will be coming summer 2018 – keep an eye out!
URL:https://www.animaladvocatesscpa.com/eventinfo/harvest-vegfest-york/
CATEGORIES:Community Event,Vegan Social Event,Volunteer Opportunity
ATTACH;FMTTYPE=image/jpeg:https://www.animaladvocatesscpa.com/wp-content/uploads/2018/02/youcaring-banner.jpg
END:VEVENT
BEGIN:VEVENT
DTSTART;TZID=America/New_York:20180610T140000
DTEND;TZID=America/New_York:20180610T170000
DTSTAMP:20260422T223835
CREATED:20180425T012811Z
LAST-MODIFIED:20180425T012811Z
UID:1709-1528639200-1528650000@www.animaladvocatesscpa.com
SUMMARY:Vegan Cheeze Demo in the Barn
DESCRIPTION:Date: Sunday June 10\nTime: Class 2:00-4:00 pm\nFarm tour / animal meet & greet will commence after class!!!\nWhere: Lancaster Farm Sanctuary\, 558 Milton Grove Rd South\, Elizabethtown\, Pennsylvania 17022\nCost: $35.00\, additional $15.00 if you would like to purchase the cookbook.\n**Tickets will be available at the end of April** \nJoin us for a vegan cheeze making demonstration in the barn at Lancaster Farm Sanctuary. All proceeds from the class will benefit Animal Advocates of South Central PA. This class is presented by the Animal Advocates of SCPA\, ScPA Vegan Drinks and Lancaster Farm Sanctuary. There are 30 available tickets for this event. \nAmber St. Clare Grebinger will demo 3 types of cheezes from the The Non-Dairy Evolution Cookbook by Skye Michael Conroy:\n– Mozzarella style\n– Beer cheeze\n– Cultured style\, possibly bleu cheeze \nEach attendee will receive 1 wine ticket. Wine selection provided by ScPA Vegan Drinks. We will also have homemade lemonade and iced tea.\nAttendees are welcome to BYOB.\nCrackers\, fruit and baked goods will be served alongside cheeze.\nEveryone will take home a jar of (super delicious!) beer cheeze.
URL:https://www.animaladvocatesscpa.com/eventinfo/vegan-cheeze-demo-in-the-barn/
LOCATION:Lancaster Farm Sanctuary\, 558 Milton Grove Rd South\, Elizabethtown\, PA\, 17022
CATEGORIES:Community Event,Cooking Classes,Fundraiser,SCPA Vegan Drinks
ATTACH;FMTTYPE=image/jpeg:https://www.animaladvocatesscpa.com/wp-content/uploads/2018/04/30712094_1511456938977212_2105288757648525941_n.jpg
END:VEVENT
BEGIN:VEVENT
DTSTART;TZID=America/New_York:20180422T080000
DTEND;TZID=America/New_York:20180609T170000
DTSTAMP:20260422T223835
CREATED:20180204T234457Z
LAST-MODIFIED:20180405T004541Z
UID:1411-1524384000-1528563600@www.animaladvocatesscpa.com
SUMMARY:Vegan Challenge - Month of May
DESCRIPTION:Our very first Vegan Challenge will take place during the month of May 2018! \nThe deadline for participants is April 12 – it is on a first come\, first served basis. There are 25 spots available. \nAll the info is on the signup page: https://www.animaladvocatesscpa.com/programs/2018-vegan-challenge/
URL:https://www.animaladvocatesscpa.com/eventinfo/vegan-challenge-month-may/
LOCATION:Leg Up Farmers Market\, 3100 N George St\, York\, PA\, 17406\, United States
CATEGORIES:Community Event,Cooking Classes,Vegan Social Event
ATTACH;FMTTYPE=image/jpeg:https://www.animaladvocatesscpa.com/wp-content/uploads/2018/01/Leg-Up-Farms-2016-26.jpg
END:VEVENT
BEGIN:VEVENT
DTSTART;TZID=America/New_York:20180324T090000
DTEND;TZID=America/New_York:20180324T160000
DTSTAMP:20260422T223835
CREATED:20180217T010700Z
LAST-MODIFIED:20180217T010700Z
UID:1424-1521882000-1521907200@www.animaladvocatesscpa.com
SUMMARY:Samantha's Free Market
DESCRIPTION:We will be a vendor at the Free Market at CrossFit York. We will be handing out free vegan brown bag lunches while supplies last! \nFacebook event: https://www.facebook.com/events/2078615762374728/
URL:https://www.animaladvocatesscpa.com/eventinfo/samanthas-free-market/
LOCATION:CrossFit York\, 147 West Philadelphia St\, York\, PA\, 17401\, United States
CATEGORIES:Community Event,Tabling Event,Volunteer Opportunity
ATTACH;FMTTYPE=image/jpeg:https://www.animaladvocatesscpa.com/wp-content/uploads/2018/02/26992332_563192370708157_4518613165039802761_n.jpg
END:VEVENT
BEGIN:VEVENT
DTSTART;TZID=America/New_York:20180301T170000
DTEND;TZID=America/New_York:20180310T140000
DTSTAMP:20260422T223835
CREATED:20180217T011722Z
LAST-MODIFIED:20180217T011722Z
UID:1429-1519923600-1520690400@www.animaladvocatesscpa.com
SUMMARY:Animalia Exhibit - Fundraiser for Harvest Vegfest
DESCRIPTION:Animalia: An Exploration of Animals in Art\nExhibit Dates: March 1 – 10\, 2018\nOpening reception: Thursday\, March 1st\, 5-7 pm\nCreative York West\, 118 W Philadelphia St\, York\, PA 17401 \nThis animal-themed exhibit is a benefit fundraiser for Harvest Vegfest\, coming to York on September 22\, 2018! \nJoin the team behind Harvest Vegfest for the Opening Reception at Creative York West on Thursday\, March 1 from 5-7pm to be among the first to see the exhibit\, try some plant-based cheeses\, participate in a silent auction\, and meet some of the artists. Afterwards\, pop around the corner for the opening reception for two new exhibits at our main gallery at 10 N Beaver Street\, from 6-8pm \nWe will also be open on First Friday from 5-9 pm with tasty catered treats from Z Wild Vegans. Both Thursday (3/1) and Friday (3/2) will be a silent auction. Pieces that are not sold will be available for purchase throughout the exhibit. \nParticipating Artists include:\nMatthew Clay-Robison\nSue Coe\nMeghan Elizabeth\nAthena Chantiles\nAlice Forde\nErin Toms\nNathaniel Corn\nAmanda Clark\nand more to be announced \nCreative York West\, 118 W Philadelphia St\, York\, PA 17401\nGallery Hours: Tues\, Thurs\, Sat 10-2\, and First Friday 5-9
URL:https://www.animaladvocatesscpa.com/eventinfo/animalia-exhibit-fundraiser-harvest-vegfest/
LOCATION:Creative York West\, 118 West Philadelphia St\, York\, PA\, 17401
CATEGORIES:Community Event,Fundraiser,Vegan Social Event
ATTACH;FMTTYPE=image/jpeg:https://www.animaladvocatesscpa.com/wp-content/uploads/2018/02/28033472_10157121662257782_1279085345_o.jpg
END:VEVENT
BEGIN:VEVENT
DTSTART;TZID=America/New_York:20180210T110000
DTEND;TZID=America/New_York:20180210T150000
DTSTAMP:20260422T223835
CREATED:20180117T014422Z
LAST-MODIFIED:20180117T014422Z
UID:1315-1518260400-1518274800@www.animaladvocatesscpa.com
SUMMARY:Outreach at Leg Up Farmers Market
DESCRIPTION:We will be at Leg Up’s Vegan/Vegetarian Day from 11 am to 3 pm.
URL:https://www.animaladvocatesscpa.com/eventinfo/outreach-leg-farmers-market/
CATEGORIES:Community Event,Tabling Event
ATTACH;FMTTYPE=image/jpeg:https://www.animaladvocatesscpa.com/wp-content/uploads/2018/01/Leg-Up-Farms-2016-26.jpg
END:VEVENT
BEGIN:VEVENT
DTSTART;TZID=America/New_York:20180120T120000
DTEND;TZID=America/New_York:20180120T160000
DTSTAMP:20260422T223835
CREATED:20171216T025712Z
LAST-MODIFIED:20171230T012041Z
UID:1223-1516449600-1516464000@www.animaladvocatesscpa.com
SUMMARY:Animal Advocates Outreach at Lush Lancaster
DESCRIPTION:We will be at the Lush store in Park City\, Lancaster! We will have free food samples\, virtual reality videos\, and information. Come see us!
URL:https://www.animaladvocatesscpa.com/eventinfo/animal-advocates-outreach-lush-lancaster/
LOCATION:Lush Park City\, 604 Park City Center\, Lancaster\, PA\, 17601
CATEGORIES:Community Event,Tabling Event,Volunteer Opportunity
ATTACH;FMTTYPE=image/jpeg:https://www.animaladvocatesscpa.com/wp-content/uploads/2017/12/23795754_1134014913401247_7962374511526393618_n.jpg
END:VEVENT
BEGIN:VEVENT
DTSTART;TZID=America/New_York:20180119T100000
DTEND;TZID=America/New_York:20180121T170000
DTSTAMP:20260422T223835
CREATED:20171216T024858Z
LAST-MODIFIED:20171216T025041Z
UID:1220-1516356000-1516554000@www.animaladvocatesscpa.com
SUMMARY:Animal Rights Gathering 2018 & No New Animal Labs Debrief
DESCRIPTION:ARGathering 2018 is a conversation about the intersections of animal rights. The organizers of this event\, are hoping to disrupt the mainstream narrative\, build a stronger identity\, and promote intersectional organizing. \nWe will be asking and discussin how or if we bring the non-human animal into the intersections of our existence\, organizing\, and support work. \nPlease visit our website\, and register at the bottom of the page! \nargathering2018.wordpress.com \nSpeakers:\nBina Ahmad will be speaking on the intersections of Islam and the the Muslim community and animal liberation both theoretically and how this plays out in great and not so great ways in the animal liberation movement. \nMaia Ramnath will be seaking on colonization and how that has shaped societies interaction with non-human animals\, the land\, and each other. \nThere will be a No New Animal Labs debrief on Saturday morning. Were you part of the campaign? Please get in touch! \nThis is a non-organizational gathering\, however Friday night we will have a meet and greet and time for folks to share what they are working on. \nWe will be providing food and attempting to help people with travel funds\, so please register and let us know if you can throw in some cash!
URL:https://www.animaladvocatesscpa.com/eventinfo/animal-rights-gathering-2018-no-new-animal-labs-debrief/
LOCATION:Thrive Baltimore\, 6 E. Lafayette Avenue\, Baltimore\, MD\, 21202\, United States
CATEGORIES:Activism,Community Event,Vegan Social Event
ATTACH;FMTTYPE=image/jpeg:https://www.animaladvocatesscpa.com/wp-content/uploads/2017/12/WrwmMU9q.jpeg
END:VEVENT
BEGIN:VEVENT
DTSTART;TZID=America/New_York:20180111T180000
DTEND;TZID=America/New_York:20180111T200000
DTSTAMP:20260422T223835
CREATED:20171105T014519Z
LAST-MODIFIED:20171105T014519Z
UID:1140-1515693600-1515700800@www.animaladvocatesscpa.com
SUMMARY:January Vegan Book Club Meeting
DESCRIPTION:January’s book is How to Create a Vegan World: A Pragmatic Approach by Tobias Leenaert. Everyone is welcome! All you have to do is read the book and show up to discuss over dinner. \nLocation to be determined soon. Suggestions are welcome! \nSummary: In this thought-provoking book\, Tobias Leenaert leaves well-trodden animal advocacy paths and takes a fresh look at the strategies\, objectives\, and communication of the vegan and animal rights movement. He argues that\, given our present situation\, with entire societies dependent on using animals\, we need a very pragmatic approach. How to Create a Vegan World contains many valuable ideas and insights for both budding advocates for animals and seasoned activists\, organizational leaders\, and even entrepreneurs.
URL:https://www.animaladvocatesscpa.com/eventinfo/january-vegan-book-club-meeting-2/
CATEGORIES:Community Event,Vegan Book Club,Vegan Social Event
ATTACH;FMTTYPE=image/jpeg:https://www.animaladvocatesscpa.com/wp-content/uploads/2017/11/23032478_1346630498793191_7333934878426654004_n.jpg
END:VEVENT
BEGIN:VEVENT
DTSTART;TZID=America/New_York:20171119T170000
DTEND;TZID=America/New_York:20171119T200000
DTSTAMP:20260422T223835
CREATED:20170910T162218Z
LAST-MODIFIED:20170910T162408Z
UID:1050-1511110800-1511121600@www.animaladvocatesscpa.com
SUMMARY:Vegansgiving 2017
DESCRIPTION:What: Community Potluck that is 100% Vegan! \nWhere: Central Market House York – in the event space\, use the Philadelphia Street entrance \nWhen: Sunday\, November 19 from 5:00 – 8:00 pm \nAll are welcome to attend! Please bring a *vegan* dish to share and if possible\, an ingredient list for those with allergies. \nDonations will be accepted for the Animal Advocates of South Central PA who is sponsoring the event. They will provide compostable serving utensils\, plates and bowls.
URL:https://www.animaladvocatesscpa.com/eventinfo/vegansgiving-2017/
LOCATION:Central Market York\, 34 W Philadelphia St.\, York\, PA\, 17401\, United States
CATEGORIES:Community Event,Fundraiser,Vegan Social Event
ATTACH;FMTTYPE=image/jpeg:https://www.animaladvocatesscpa.com/wp-content/uploads/2017/09/Vegansgiving-2017.jpg
END:VEVENT
BEGIN:VEVENT
DTSTART;TZID=America/New_York:20170831T180000
DTEND;TZID=America/New_York:20170831T200000
DTSTAMP:20260422T223835
CREATED:20170812T135620Z
LAST-MODIFIED:20170812T135620Z
UID:1009-1504202400-1504209600@www.animaladvocatesscpa.com
SUMMARY:August Vegan Book Club
DESCRIPTION:August’s Book Club Meeting will be a a little different – we will be reading a cook book – This Cheese Is Nuts! by Julie Piatt. \nVegan cheese is one of those things that astounds people when it is good – let’s perfect our vegan cheese skills together to wow our friends and family at the next get-together! \nTo purchase: https://www.amazon.com/This-Cheese-Nuts-Delicious-Vegan/dp/0735213798 \nBring a cheese/recipe from the book to the meeting. This will be a pot-luck style meeting in Rissa’s parent’s new kitchen in East York. Rissa’s mom has offered to make us a free-to-guests vegan meal consisting of a burger\, corn on the cob\, salad and pie for dinner. We will discuss the book and possibly make a cheese together. \nAll are welcome. Please RSVP by 8/24
URL:https://www.animaladvocatesscpa.com/eventinfo/august-vegan-book-club/
CATEGORIES:Community Event,Vegan Book Club,Vegan Social Event
ATTACH;FMTTYPE=image/jpeg:https://www.animaladvocatesscpa.com/wp-content/uploads/2017/08/vegan-cheese-youtube-cover.jpg
END:VEVENT
BEGIN:VEVENT
DTSTART;TZID=America/New_York:20170826T090000
DTEND;TZID=America/New_York:20170826T160000
DTSTAMP:20260422T223835
CREATED:20170812T135131Z
LAST-MODIFIED:20170812T135131Z
UID:1006-1503738000-1503763200@www.animaladvocatesscpa.com
SUMMARY:Dogs' Day in the Park
DESCRIPTION:Animal Rescue Inc’s annual fundraiser event is here!\nAugust 26\, 2017 Marge Goodefellow Park\, New Freedom PA \nThe fun starts at 9 am with the Mutt Strutt! You can help by collecting pledges and walk 1 mile along the YCR Rail Trail with your friends or canine companion. You can setup your very own fundraising page and preregister to walk. \nFrom 10am to 4pm\, enjoy the festivities with Dogs’ Day in the Park! Activities\, food\, dogs\, and vendors! \nThe Animal Advocates of South Central PA will be making all of the food!!! 100% vegan 🙂
URL:https://www.animaladvocatesscpa.com/eventinfo/dogs-day-park/
LOCATION:Animal Rescue\, Inc.\, 2 Heritage Farm Drive\, New Freedom\, PA\, 17349\, United States
CATEGORIES:Community Event,Fundraiser,Tabling Event,Vegan Social Event
ATTACH;FMTTYPE=image/jpeg:https://www.animaladvocatesscpa.com/wp-content/uploads/2017/08/Why-dogs-eat-grass_0.jpg
END:VEVENT
BEGIN:VEVENT
DTSTART;TZID=America/New_York:20170730T120000
DTEND;TZID=America/New_York:20170730T180000
DTSTAMP:20260422T223835
CREATED:20170720T020832Z
LAST-MODIFIED:20170720T020832Z
UID:963-1501416000-1501437600@www.animaladvocatesscpa.com
SUMMARY:Thrive Baltimore Presents Vegan Crabcake Cookoff!
DESCRIPTION:Who makes the most delicious\, meanest vegan crabcake in Baltimore? Come find out and help us crown the winner at Thrive Baltimore’s first annual Vegan Crabcake Cookoff! Tickets are sold for 2 hour blocks and include samples of all the crabcakes from each of the chefs (currently 8 and counting)\, sides\, a drink and one vote. Additional drinks and alcohol will be available for sale as well as other merchandise. \nEarly bird ticket pricing of $20 per ticket ends on July 15th! Tickets purchased after this date will be $25 each. Space is limited\, so don’t wait! Tickets available here: http://buytickets.at/thrivebaltimore/104040 \nTo accommodate more people (and avoid over crowding) we’ve divided ticket sales into 2 hour blocks. Please pick the time that works best for you! Because of this we won’t be able to sell tickets at the door. \nThrive Baltimore is a dynamic event space located at 6 East Lafayette Avenue\, Baltimore\, MD 21202. Street parking is available as well as 2 paid lots within one block of the building. Buses: 51\, 95\, 103\, City Link Green\, and City Link Silver. Use the Charles Street and North Avenue stop. Trains: Thrive Baltimore is located 2 blocks from Penn Station. \nAll proceeds from this event go to benefit Thrive Baltimore\, a project of Better Health\, Better Life (a registered 501c(3) non-profit) and our ongoing mission to provide inclusive community programming to the people of Baltimore City. We appreciate your help! If you’re able\, please consider donating at checkout. \nBe sure to check in at our Facebook event listing at www.facebook.com/ThriveBMore
URL:https://www.animaladvocatesscpa.com/eventinfo/thrive-baltimore-presents-vegan-crabcake-cookoff/
LOCATION:Thrive Baltimore\, 6 E. Lafayette Avenue\, Baltimore\, MD\, 21202\, United States
CATEGORIES:Community Event
ATTACH;FMTTYPE=image/jpeg:https://www.animaladvocatesscpa.com/wp-content/uploads/2017/07/19437280_1719489868344276_5422430185850943636_n.jpg
END:VEVENT
END:VCALENDAR