BEGIN:VCALENDAR
VERSION:2.0
PRODID:-//Animal Advocates of South Central PA - ECPv6.10.1.1//NONSGML v1.0//EN
CALSCALE:GREGORIAN
METHOD:PUBLISH
X-ORIGINAL-URL:https://www.animaladvocatesscpa.com
X-WR-CALDESC:Events for Animal Advocates of South Central PA
REFRESH-INTERVAL;VALUE=DURATION:PT1H
X-Robots-Tag:noindex
X-PUBLISHED-TTL:PT1H
BEGIN:VTIMEZONE
TZID:America/New_York
BEGIN:DAYLIGHT
TZOFFSETFROM:-0500
TZOFFSETTO:-0400
TZNAME:EDT
DTSTART:20170312T070000
END:DAYLIGHT
BEGIN:STANDARD
TZOFFSETFROM:-0400
TZOFFSETTO:-0500
TZNAME:EST
DTSTART:20171105T060000
END:STANDARD
BEGIN:DAYLIGHT
TZOFFSETFROM:-0500
TZOFFSETTO:-0400
TZNAME:EDT
DTSTART:20180311T070000
END:DAYLIGHT
BEGIN:STANDARD
TZOFFSETFROM:-0400
TZOFFSETTO:-0500
TZNAME:EST
DTSTART:20181104T060000
END:STANDARD
END:VTIMEZONE
BEGIN:VEVENT
DTSTART;TZID=America/New_York:20180119T100000
DTEND;TZID=America/New_York:20180121T170000
DTSTAMP:20260422T223940
CREATED:20171216T024858Z
LAST-MODIFIED:20171216T025041Z
UID:1220-1516356000-1516554000@www.animaladvocatesscpa.com
SUMMARY:Animal Rights Gathering 2018 & No New Animal Labs Debrief
DESCRIPTION:ARGathering 2018 is a conversation about the intersections of animal rights. The organizers of this event\, are hoping to disrupt the mainstream narrative\, build a stronger identity\, and promote intersectional organizing. \nWe will be asking and discussin how or if we bring the non-human animal into the intersections of our existence\, organizing\, and support work. \nPlease visit our website\, and register at the bottom of the page! \nargathering2018.wordpress.com \nSpeakers:\nBina Ahmad will be speaking on the intersections of Islam and the the Muslim community and animal liberation both theoretically and how this plays out in great and not so great ways in the animal liberation movement. \nMaia Ramnath will be seaking on colonization and how that has shaped societies interaction with non-human animals\, the land\, and each other. \nThere will be a No New Animal Labs debrief on Saturday morning. Were you part of the campaign? Please get in touch! \nThis is a non-organizational gathering\, however Friday night we will have a meet and greet and time for folks to share what they are working on. \nWe will be providing food and attempting to help people with travel funds\, so please register and let us know if you can throw in some cash!
URL:https://www.animaladvocatesscpa.com/eventinfo/animal-rights-gathering-2018-no-new-animal-labs-debrief/
LOCATION:Thrive Baltimore\, 6 E. Lafayette Avenue\, Baltimore\, MD\, 21202\, United States
CATEGORIES:Activism,Community Event,Vegan Social Event
ATTACH;FMTTYPE=image/jpeg:https://www.animaladvocatesscpa.com/wp-content/uploads/2017/12/WrwmMU9q.jpeg
END:VEVENT
BEGIN:VEVENT
DTSTART;TZID=America/New_York:20180106T100000
DTEND;TZID=America/New_York:20180106T160000
DTSTAMP:20260422T223940
CREATED:20171216T023945Z
LAST-MODIFIED:20171218T022210Z
UID:1215-1515232800-1515254400@www.animaladvocatesscpa.com
SUMMARY:2018 PA Farm Show Protest
DESCRIPTION:This protest is being organized by Harrisburg Animal Action. \nProtest the absolutely abhorrent use of animals for food and entertainment. The PA Farm Show is one of the most visible showcases of this horror show in the country. This will be a standard “protest” only\, we are not planning a disruption. The protest will take place within the Farm Show’s designated free speech zone. It is our hope that we can gather enough activists at one time\, on opening night of the Farm Show\, to make a significant impression. We will contact media and hope for coverage of our protest.
URL:https://www.animaladvocatesscpa.com/eventinfo/2018-pa-farm-show-protest/
LOCATION:Harrisburg Farm Show\, 2300 North Cameron Street\, Harrisburg\, PA\, 17110
CATEGORIES:Activism
ATTACH;FMTTYPE=image/jpeg:https://www.animaladvocatesscpa.com/wp-content/uploads/2017/12/17757314_1159222660867310_2305167427150527838_n.jpg
END:VEVENT
BEGIN:VEVENT
DTSTART;TZID=America/New_York:20170709T100000
DTEND;TZID=America/New_York:20170709T130000
DTSTAMP:20260422T223940
CREATED:20170521T004231Z
LAST-MODIFIED:20170618T134404Z
UID:811-1499594400-1499605200@www.animaladvocatesscpa.com
SUMMARY:Chalking Front St in the Burg
DESCRIPTION:Come out to chalk messages of compassion for animals with us! \nWe will meet at the Walnut Street Bridge on Front Street and work our way up Front Street. Afterwards\, we will grab lunch at 2nd Street Shawarma around noon. \nBring some sidewalk chalk and ideas of what to write. \nHere is some inspiration:\nhttps://www.facebook.com/notes/vegan-chalk-challenge/vegan-chalk-messages/1711395849097800
URL:https://www.animaladvocatesscpa.com/eventinfo/chalking-front-st-burg/
LOCATION:Front Street Harrisburg\, Harrisburg\, PA
CATEGORIES:Activism,Vegan Social Event
ATTACH;FMTTYPE=image/jpeg:https://www.animaladvocatesscpa.com/wp-content/uploads/2017/03/16998240_1121028581353385_7678519266953267335_n.jpg
END:VEVENT
END:VCALENDAR